BEGIN:VCALENDAR
VERSION:2.0
PRODID:-//Plone.org//NONSGML plone.app.event//EN
X-WR-TIMEZONE:US/Central
BEGIN:VEVENT
SUMMARY:Games
DTSTART;TZID=US/Central:20230510T130000
DTSTAMP:20260423T201441Z
UID:7874d1a1024d476eabbe91f13e7dba5d@saas_stack_varnish:6080
RRULE:FREQ=WEEKLY;COUNT=16;BYDAY=WE
CONTACT:Nancy Hykel\, (254) 826-3070
CREATED:20230508T000915Z
DESCRIPTION:The Library hosts numerous games such as cards\, dominos\, Ski
 p-Bo\, etc. every Wednesday.
LAST-MODIFIED:20230508T000931Z
LOCATION:West Public Library
URL:https://www.westpl.org/games
END:VEVENT
BEGIN:VTIMEZONE
TZID:US/Central
X-LIC-LOCATION:US/Central
BEGIN:DAYLIGHT
DTSTART:20230312T030000
TZNAME:CDT
TZOFFSETFROM:-0600
TZOFFSETTO:-0500
END:DAYLIGHT
END:VTIMEZONE
END:VCALENDAR
